BEGIN:VCALENDAR
VERSION:2.0
PRODID:-//Southeast School of Dance - ECPv6.15.20//NONSGML v1.0//EN
CALSCALE:GREGORIAN
METHOD:PUBLISH
X-ORIGINAL-URL:https://se-dance.com
X-WR-CALDESC:Events for Southeast School of Dance
REFRESH-INTERVAL;VALUE=DURATION:PT1H
X-Robots-Tag:noindex
X-PUBLISHED-TTL:PT1H
BEGIN:VTIMEZONE
TZID:America/New_York
BEGIN:DAYLIGHT
TZOFFSETFROM:-0500
TZOFFSETTO:-0400
TZNAME:EDT
DTSTART:20250309T070000
END:DAYLIGHT
BEGIN:STANDARD
TZOFFSETFROM:-0400
TZOFFSETTO:-0500
TZNAME:EST
DTSTART:20251102T060000
END:STANDARD
BEGIN:DAYLIGHT
TZOFFSETFROM:-0500
TZOFFSETTO:-0400
TZNAME:EDT
DTSTART:20260308T070000
END:DAYLIGHT
BEGIN:STANDARD
TZOFFSETFROM:-0400
TZOFFSETTO:-0500
TZNAME:EST
DTSTART:20261101T060000
END:STANDARD
BEGIN:DAYLIGHT
TZOFFSETFROM:-0500
TZOFFSETTO:-0400
TZNAME:EDT
DTSTART:20270314T070000
END:DAYLIGHT
BEGIN:STANDARD
TZOFFSETFROM:-0400
TZOFFSETTO:-0500
TZNAME:EST
DTSTART:20271107T060000
END:STANDARD
END:VTIMEZONE
BEGIN:VEVENT
DTSTART;TZID=America/New_York:20261109T163000
DTEND;TZID=America/New_York:20261112T210000
DTSTAMP:20260423T043151
CREATED:20250426T223120Z
LAST-MODIFIED:20250426T223120Z
UID:3262-1794241800-1794517200@se-dance.com
SUMMARY:Ballet Levels 2-5 Mid Term Evaluations
DESCRIPTION:
URL:https://se-dance.com/event/ballet-levels-2-5-mid-term-evaluations-2-2-2/
CATEGORIES:2025-2026 Season Calendar
END:VEVENT
BEGIN:VEVENT
DTSTART;TZID=America/New_York:20261116T163000
DTEND;TZID=America/New_York:20261119T210000
DTSTAMP:20260423T043151
CREATED:20250426T223158Z
LAST-MODIFIED:20250426T223158Z
UID:3263-1794846600-1795122000@se-dance.com
SUMMARY:Costume Measurement Week
DESCRIPTION:Costume measurements will be taken during regularly scheduled class times
URL:https://se-dance.com/event/costume-measurement-week-3-2-2-2/
CATEGORIES:2025-2026 Season Calendar
END:VEVENT
END:VCALENDAR