BEGIN:VCALENDAR
VERSION:2.0
PRODID:-//Southeast School of Dance - ECPv6.15.20//NONSGML v1.0//EN
CALSCALE:GREGORIAN
METHOD:PUBLISH
X-ORIGINAL-URL:https://se-dance.com
X-WR-CALDESC:Events for Southeast School of Dance
REFRESH-INTERVAL;VALUE=DURATION:PT1H
X-Robots-Tag:noindex
X-PUBLISHED-TTL:PT1H
BEGIN:VTIMEZONE
TZID:America/New_York
BEGIN:DAYLIGHT
TZOFFSETFROM:-0500
TZOFFSETTO:-0400
TZNAME:EDT
DTSTART:20230312T070000
END:DAYLIGHT
BEGIN:STANDARD
TZOFFSETFROM:-0400
TZOFFSETTO:-0500
TZNAME:EST
DTSTART:20231105T060000
END:STANDARD
BEGIN:DAYLIGHT
TZOFFSETFROM:-0500
TZOFFSETTO:-0400
TZNAME:EDT
DTSTART:20240310T070000
END:DAYLIGHT
BEGIN:STANDARD
TZOFFSETFROM:-0400
TZOFFSETTO:-0500
TZNAME:EST
DTSTART:20241103T060000
END:STANDARD
BEGIN:DAYLIGHT
TZOFFSETFROM:-0500
TZOFFSETTO:-0400
TZNAME:EDT
DTSTART:20250309T070000
END:DAYLIGHT
BEGIN:STANDARD
TZOFFSETFROM:-0400
TZOFFSETTO:-0500
TZNAME:EST
DTSTART:20251102T060000
END:STANDARD
END:VTIMEZONE
BEGIN:VTIMEZONE
TZID:UTC
BEGIN:STANDARD
TZOFFSETFROM:+0000
TZOFFSETTO:+0000
TZNAME:UTC
DTSTART:20230101T000000
END:STANDARD
END:VTIMEZONE
BEGIN:VEVENT
DTSTART;TZID=America/New_York:20240709T160000
DTEND;TZID=America/New_York:20240801T210000
DTSTAMP:20260421T094305
CREATED:20240129T185337Z
LAST-MODIFIED:20240129T185337Z
UID:2877-1720540800-1722546000@se-dance.com
SUMMARY:Summer Session (Weeks 5-8)
DESCRIPTION:Summer classes are always a blast! It’s a great time to try something new\, and we sometimes have guest instructors\, too! In addition\, dancers are invited to sign up for “Dance Team Choreography Camp” which performs at the Winston Salem Dash AND the Greensboro Grasshopper Stadiums!\nView our Summer Schedules here
URL:https://se-dance.com/event/summer-session-weeks-1-4-2/
CATEGORIES:2025-2026 Season Calendar
END:VEVENT
BEGIN:VEVENT
DTSTART;TZID=UTC:20240808T193000
DTEND;TZID=UTC:20240808T203000
DTSTAMP:20260421T094305
CREATED:20240718T182416Z
LAST-MODIFIED:20240806T165308Z
UID:3044-1723145400-1723149000@se-dance.com
SUMMARY:Virtual Fall/Spring Orientation: New & Return Students
DESCRIPTION:We will review important studio information regarding tuition polices\, NEW class attire\, Showcase dates\, and More! Please plan to attend and bring your calendars! \n*This meeting will be held VIRTUALLY via Google Meet. \nA link will be emailed and posted in our private Facebook group Thursday around 7:25.
URL:https://se-dance.com/event/in-person-fall-spring-orientation-new-return-students-2-2/
CATEGORIES:2025-2026 Season Calendar
END:VEVENT
BEGIN:VEVENT
DTSTART;TZID=America/New_York:20240811T150000
DTEND;TZID=America/New_York:20240811T180000
DTSTAMP:20260421T094305
CREATED:20240226T190003Z
LAST-MODIFIED:20240806T172543Z
UID:2892-1723388400-1723399200@se-dance.com
SUMMARY:Fall Open House & Grand Opening Celebration
DESCRIPTION:Invite a friend to join us for our Fall Open House & Grand Opening Celebration! We will be offering a variety of classes so you can try lots of different styles\, and we will accept registrations for the upcoming Fall/Spring season. This is a great time to try something new and can help your dancer decide in which class they would like to enroll for summer and fall! \nTrial Class Schedules (parent/guardian will need to sign a waiver before minor can participate in classes): \n\nAges 3-5: Creative Movement with Mrs. Katherine (3:30-3:50)\nAges 5.5-10: Intro to Ballet with Mrs. Katherine (4:00-4:20)\nAges 8+: Dance Team (Pom) with Mrs. Katherine (4:30-4:50)\n\nOrientation (New AND Return Students) 7:30-8:15 (virtual only) Info here: Virtual Fall/Spring Orientation: New & Return Students – Southeast School of Dance (se-dance.com)
URL:https://se-dance.com/event/fall-open-house/
CATEGORIES:2025-2026 Season Calendar
END:VEVENT
BEGIN:VEVENT
DTSTART;TZID=America/New_York:20240819T160000
DTEND;TZID=America/New_York:20240822T210000
DTSTAMP:20260421T094305
CREATED:20240227T042446Z
LAST-MODIFIED:20240227T042446Z
UID:2894-1724083200-1724360400@se-dance.com
SUMMARY:First Week of Fall Classes!
DESCRIPTION:2024-2025 Classes begin this week!
URL:https://se-dance.com/event/first-week-of-fall-classes-2-2/
CATEGORIES:2025-2026 Season Calendar
END:VEVENT
BEGIN:VEVENT
DTSTART;VALUE=DATE:20240829
DTEND;VALUE=DATE:20240903
DTSTAMP:20260421T094305
CREATED:20240515T022917Z
LAST-MODIFIED:20240515T022917Z
UID:2986-1724889600-1725321599@se-dance.com
SUMMARY:Studio Closed: Labor Day
DESCRIPTION:SESD Offices are closed\, and no classes will meet (Thursday-Monday).
URL:https://se-dance.com/event/studio-closed-labor-day-2-2-2-2/
CATEGORIES:2025-2026 Season Calendar
END:VEVENT
END:VCALENDAR