BEGIN:VCALENDAR
VERSION:2.0
PRODID:-//Southeast School of Dance - ECPv6.15.20//NONSGML v1.0//EN
CALSCALE:GREGORIAN
METHOD:PUBLISH
X-ORIGINAL-URL:https://se-dance.com
X-WR-CALDESC:Events for Southeast School of Dance
REFRESH-INTERVAL;VALUE=DURATION:PT1H
X-Robots-Tag:noindex
X-PUBLISHED-TTL:PT1H
BEGIN:VTIMEZONE
TZID:America/New_York
BEGIN:DAYLIGHT
TZOFFSETFROM:-0500
TZOFFSETTO:-0400
TZNAME:EDT
DTSTART:20170312T070000
END:DAYLIGHT
BEGIN:STANDARD
TZOFFSETFROM:-0400
TZOFFSETTO:-0500
TZNAME:EST
DTSTART:20171105T060000
END:STANDARD
BEGIN:DAYLIGHT
TZOFFSETFROM:-0500
TZOFFSETTO:-0400
TZNAME:EDT
DTSTART:20180311T070000
END:DAYLIGHT
BEGIN:STANDARD
TZOFFSETFROM:-0400
TZOFFSETTO:-0500
TZNAME:EST
DTSTART:20181104T060000
END:STANDARD
BEGIN:DAYLIGHT
TZOFFSETFROM:-0500
TZOFFSETTO:-0400
TZNAME:EDT
DTSTART:20190310T070000
END:DAYLIGHT
BEGIN:STANDARD
TZOFFSETFROM:-0400
TZOFFSETTO:-0500
TZNAME:EST
DTSTART:20191103T060000
END:STANDARD
END:VTIMEZONE
BEGIN:VEVENT
DTSTART;TZID=America/New_York:20180504T173000
DTEND;TZID=America/New_York:20180504T190000
DTSTAMP:20260422T172719
CREATED:20170805T214109Z
LAST-MODIFIED:20180209T234929Z
UID:1456-1525455000-1525460400@se-dance.com
SUMMARY:Showcase Opening Number Rehearsal
DESCRIPTION:
URL:https://se-dance.com/event/showcase-production-rehearsal/
LOCATION:Southeast School of Dance\, 5315 Liberty Rd\, Greensboro\, NC\, 27406\, United States
CATEGORIES:2025-2026 Season Calendar
END:VEVENT
BEGIN:VEVENT
DTSTART;TZID=America/New_York:20180510T170000
DTEND;TZID=America/New_York:20180510T200000
DTSTAMP:20260422T172719
CREATED:20170808T041318Z
LAST-MODIFIED:20170808T041318Z
UID:1466-1525971600-1525982400@se-dance.com
SUMMARY:End of Year Belt Testing
DESCRIPTION:Belt testing in each Karate class. Please remember to arrive in dress code with your belt.
URL:https://se-dance.com/event/end-of-year-belt-testing-2/
LOCATION:Southeast School of Dance\, 5315 Liberty Rd\, Greensboro\, NC\, 27406\, United States
CATEGORIES:2025-2026 Season Calendar
END:VEVENT
BEGIN:VEVENT
DTSTART;TZID=America/New_York:20180517T170000
DTEND;TZID=America/New_York:20180517T200000
DTSTAMP:20260422T172719
CREATED:20170713T173926Z
LAST-MODIFIED:20170808T041443Z
UID:1432-1526576400-1526587200@se-dance.com
SUMMARY:Graduation & Last Day of Spring KARATE Classes
DESCRIPTION:Graduation day during each Karate class. Hard work pays off! Families are invited to attend\, picture are encouraged!
URL:https://se-dance.com/event/last-day-of-spring-karate-classes/
CATEGORIES:2025-2026 Season Calendar
END:VEVENT
BEGIN:VEVENT
DTSTART;TZID=America/New_York:20180518T173000
DTEND;TZID=America/New_York:20180518T190000
DTSTAMP:20260422T172719
CREATED:20170805T214139Z
LAST-MODIFIED:20180209T234956Z
UID:1457-1526664600-1526670000@se-dance.com
SUMMARY:Showcase Opening Number Rehearsal
DESCRIPTION:
URL:https://se-dance.com/event/showcase-production-rehearsal-2/
LOCATION:Southeast School of Dance\, 5315 Liberty Rd\, Greensboro\, NC\, 27406\, United States
CATEGORIES:2025-2026 Season Calendar
END:VEVENT
BEGIN:VEVENT
DTSTART;TZID=America/New_York:20180521T170000
DTEND;TZID=America/New_York:20180522T210000
DTSTAMP:20260422T172719
CREATED:20170808T041705Z
LAST-MODIFIED:20180128T010242Z
UID:1468-1526922000-1527022800@se-dance.com
SUMMARY:Ballet 2\, 3\, & 4 FINAL Evaluations
DESCRIPTION:Please arrive 5-10 minutes early and warm up\, get ready for class in the lobby. We need every second of class to complete evaluations. Remember\, class attire and professionalism in class is also noted. \nDancers will be evaluated on technique\, memory\, performance in class as well as punctuality\, class attire\, and studio etiquette throughout the dance year. Final Evaluations include next years’ class placement. \nSMILE! You worked hard all year\, now it’s time to shine!
URL:https://se-dance.com/event/ballet-2-3-4-mid-term-evaluations-2-2/
CATEGORIES:2025-2026 Season Calendar
END:VEVENT
BEGIN:VEVENT
DTSTART;TZID=America/New_York:20180525T080000
DTEND;TZID=America/New_York:20180528T170000
DTSTAMP:20260422T172719
CREATED:20170808T041750Z
LAST-MODIFIED:20171106T195242Z
UID:1469-1527235200-1527526800@se-dance.com
SUMMARY:CLOSED--Happy Memorial Day!
DESCRIPTION:Enjoy a long weekend!
URL:https://se-dance.com/event/closed-happy-memorial-day/
CATEGORIES:2025-2026 Season Calendar
END:VEVENT
END:VCALENDAR