BEGIN:VCALENDAR
VERSION:2.0
PRODID:-//Southeast School of Dance - ECPv6.15.20//NONSGML v1.0//EN
CALSCALE:GREGORIAN
METHOD:PUBLISH
X-WR-CALNAME:Southeast School of Dance
X-ORIGINAL-URL:https://se-dance.com
X-WR-CALDESC:Events for Southeast School of Dance
REFRESH-INTERVAL;VALUE=DURATION:PT1H
X-Robots-Tag:noindex
X-PUBLISHED-TTL:PT1H
BEGIN:VTIMEZONE
TZID:America/New_York
BEGIN:DAYLIGHT
TZOFFSETFROM:-0500
TZOFFSETTO:-0400
TZNAME:EDT
DTSTART:20230312T070000
END:DAYLIGHT
BEGIN:STANDARD
TZOFFSETFROM:-0400
TZOFFSETTO:-0500
TZNAME:EST
DTSTART:20231105T060000
END:STANDARD
BEGIN:DAYLIGHT
TZOFFSETFROM:-0500
TZOFFSETTO:-0400
TZNAME:EDT
DTSTART:20240310T070000
END:DAYLIGHT
BEGIN:STANDARD
TZOFFSETFROM:-0400
TZOFFSETTO:-0500
TZNAME:EST
DTSTART:20241103T060000
END:STANDARD
BEGIN:DAYLIGHT
TZOFFSETFROM:-0500
TZOFFSETTO:-0400
TZNAME:EDT
DTSTART:20250309T070000
END:DAYLIGHT
BEGIN:STANDARD
TZOFFSETFROM:-0400
TZOFFSETTO:-0500
TZNAME:EST
DTSTART:20251102T060000
END:STANDARD
END:VTIMEZONE
BEGIN:VEVENT
DTSTART;TZID=America/New_York:20240811T150000
DTEND;TZID=America/New_York:20240811T180000
DTSTAMP:20260421T230150
CREATED:20240226T190003Z
LAST-MODIFIED:20240806T172543Z
UID:2892-1723388400-1723399200@se-dance.com
SUMMARY:Fall Open House & Grand Opening Celebration
DESCRIPTION:Invite a friend to join us for our Fall Open House & Grand Opening Celebration! We will be offering a variety of classes so you can try lots of different styles\, and we will accept registrations for the upcoming Fall/Spring season. This is a great time to try something new and can help your dancer decide in which class they would like to enroll for summer and fall! \nTrial Class Schedules (parent/guardian will need to sign a waiver before minor can participate in classes): \n\nAges 3-5: Creative Movement with Mrs. Katherine (3:30-3:50)\nAges 5.5-10: Intro to Ballet with Mrs. Katherine (4:00-4:20)\nAges 8+: Dance Team (Pom) with Mrs. Katherine (4:30-4:50)\n\nOrientation (New AND Return Students) 7:30-8:15 (virtual only) Info here: Virtual Fall/Spring Orientation: New & Return Students – Southeast School of Dance (se-dance.com)
URL:https://se-dance.com/event/fall-open-house/
CATEGORIES:2025-2026 Season Calendar
END:VEVENT
END:VCALENDAR