BEGIN:VCALENDAR
VERSION:2.0
PRODID:-//Southeast School of Dance - ECPv6.15.20//NONSGML v1.0//EN
CALSCALE:GREGORIAN
METHOD:PUBLISH
X-WR-CALNAME:Southeast School of Dance
X-ORIGINAL-URL:https://se-dance.com
X-WR-CALDESC:Events for Southeast School of Dance
REFRESH-INTERVAL;VALUE=DURATION:PT1H
X-Robots-Tag:noindex
X-PUBLISHED-TTL:PT1H
BEGIN:VTIMEZONE
TZID:America/New_York
BEGIN:DAYLIGHT
TZOFFSETFROM:-0500
TZOFFSETTO:-0400
TZNAME:EDT
DTSTART:20170312T070000
END:DAYLIGHT
BEGIN:STANDARD
TZOFFSETFROM:-0400
TZOFFSETTO:-0500
TZNAME:EST
DTSTART:20171105T060000
END:STANDARD
BEGIN:DAYLIGHT
TZOFFSETFROM:-0500
TZOFFSETTO:-0400
TZNAME:EDT
DTSTART:20180311T070000
END:DAYLIGHT
BEGIN:STANDARD
TZOFFSETFROM:-0400
TZOFFSETTO:-0500
TZNAME:EST
DTSTART:20181104T060000
END:STANDARD
BEGIN:DAYLIGHT
TZOFFSETFROM:-0500
TZOFFSETTO:-0400
TZNAME:EDT
DTSTART:20190310T070000
END:DAYLIGHT
BEGIN:STANDARD
TZOFFSETFROM:-0400
TZOFFSETTO:-0500
TZNAME:EST
DTSTART:20191103T060000
END:STANDARD
END:VTIMEZONE
BEGIN:VEVENT
DTSTART;TZID=America/New_York:20180709T170000
DTEND;TZID=America/New_York:20180727T200000
DTSTAMP:20260423T034002
CREATED:20170808T042305Z
LAST-MODIFIED:20170808T042305Z
UID:1472-1531155600-1532721600@se-dance.com
SUMMARY:DANCE Summer Session!
DESCRIPTION:Remember\, summer classes are required in order to audition for our Performance Team! If you’re out of town\, contact seschoolofdance@gmail.com for make up options!
URL:https://se-dance.com/event/karate-summer-session-begins-3/
CATEGORIES:2025-2026 Season Calendar
END:VEVENT
BEGIN:VEVENT
DTSTART;TZID=America/New_York:20180724T170000
DTEND;TZID=America/New_York:20180726T200000
DTSTAMP:20260423T034002
CREATED:20180609T205748Z
LAST-MODIFIED:20180609T210013Z
UID:1584-1532451600-1532635200@se-dance.com
SUMMARY:Open Enrollment-New and Current Students!
DESCRIPTION:Open Enrollment at SESD! \nDrop in to observe a class or rehearsal\, and pre-register for Fall! We strongly encourage returning students to register online\, and drop in this week to pay your Return Student and Showcase Fees. \nNew students will be able meet some of our instructors\, observe and try a class you’re interested in\, and pre-register for Fall! \nAll students are welcome to enroll online here! \n  \nTuesday Schedule: \nBallet/Tap/Jazz 1…4:15-5:15 \nBallet Level 2 OR Jazz/Tap Levels 3-4…5:15-6:15 \nBallet Level 3 OR Jazz/Tap Level 2…6:15-7:15 \nBallet Level 4…7:15-8:15\, Pointe Workshop 8:15-8:45 \nHip Hop Levels 2-3…7:15-8:15 \n  \nWednesday Schedule: \nMeet and Greet with Mrs. Katherine…5:00-5:30 \nJazz Performance Team Rehearsal…5:30-7:00 \nContemporary Lyrical Team Rehearsal…7:00-9:00 \n  \nThursday Schedule: \nKarate…5:00-5:45 \nMeet and Greet with Mr. Jamie…5:45-6:30
URL:https://se-dance.com/event/open-enrollment-new-and-current-students/
LOCATION:Southeast School of Dance\, 5315 Liberty Rd\, Greensboro\, NC\, 27406\, United States
CATEGORIES:2025-2026 Season Calendar
END:VEVENT
END:VCALENDAR