BEGIN:VCALENDAR
VERSION:2.0
PRODID:-//Southeast School of Dance - ECPv6.15.20//NONSGML v1.0//EN
CALSCALE:GREGORIAN
METHOD:PUBLISH
X-ORIGINAL-URL:https://se-dance.com
X-WR-CALDESC:Events for Southeast School of Dance
REFRESH-INTERVAL;VALUE=DURATION:PT1H
X-Robots-Tag:noindex
X-PUBLISHED-TTL:PT1H
BEGIN:VTIMEZONE
TZID:America/New_York
BEGIN:DAYLIGHT
TZOFFSETFROM:-0500
TZOFFSETTO:-0400
TZNAME:EDT
DTSTART:20170312T070000
END:DAYLIGHT
BEGIN:STANDARD
TZOFFSETFROM:-0400
TZOFFSETTO:-0500
TZNAME:EST
DTSTART:20171105T060000
END:STANDARD
BEGIN:DAYLIGHT
TZOFFSETFROM:-0500
TZOFFSETTO:-0400
TZNAME:EDT
DTSTART:20180311T070000
END:DAYLIGHT
BEGIN:STANDARD
TZOFFSETFROM:-0400
TZOFFSETTO:-0500
TZNAME:EST
DTSTART:20181104T060000
END:STANDARD
BEGIN:DAYLIGHT
TZOFFSETFROM:-0500
TZOFFSETTO:-0400
TZNAME:EDT
DTSTART:20190310T070000
END:DAYLIGHT
BEGIN:STANDARD
TZOFFSETFROM:-0400
TZOFFSETTO:-0500
TZNAME:EST
DTSTART:20191103T060000
END:STANDARD
END:VTIMEZONE
BEGIN:VEVENT
DTSTART;TZID=America/New_York:20180616T090000
DTEND;TZID=America/New_York:20180616T180000
DTSTAMP:20260425T121303
CREATED:20170713T174741Z
LAST-MODIFIED:20180129T024348Z
UID:1434-1529139600-1529172000@se-dance.com
SUMMARY:2018 Spring Showcase!
DESCRIPTION:Dress Rehearsal Show 1 and Show 2: 9:30am-12:30pm \n\nPlease check in between 9:00-9:15\, we will begin promptly at 9:30\n\nShow 1 “The Magic Mirror” \n\n2:00-3:00\nSESD Classes: Creative Movement\, Foundations\, Ballet/Tap/Jazz 1\, Ballet 2\, Ballet 3\, and Ballet 4\nNorthern Arts Classes: Creative Movement and Ballet/Jazz 2\n\nShow 2 “Once Upon A Time \n\n4:00-6:00\nSESD Classes: Praise\, Beginner Acro\, Int/Adv Acro\, Jazz/Tap 2-4\, Modern 2-3\, Hip Hop 2-3\nNorthern Arts Classes: Foundations\, Ballet/Jazz 1\, Ballet/Jazz 2\, Hip Hop\n\nPlease remember that absolutely no recording or photography is permitted. This includes cameras\, cell phones\, iPads\, or any other devices. This is a safety hazard for our performers. DVDs will be professionally recorded and available for purchase\, and a professional photographer will be on site taking photos that we are happy to share with you. \nNEW venue! The Harrison Auditorium at A&T University features a full stage including a marley dance floor topper\, seating for 900 guests\, and two dressing rooms. We are very excited about our new venue\, and hope our dancers and guests enjoy all it has to offer! \nClick here to view all Showcase Information including check in times\, costume box information\, attire\, and more!
URL:https://se-dance.com/event/2018-spring-showcase/
LOCATION:Harrison Auditorium\, 1009 Bluford Street\, Greensboro\, NC\, 27401\, United States
CATEGORIES:2025-2026 Season Calendar
END:VEVENT
END:VCALENDAR