BEGIN:VCALENDAR
VERSION:2.0
PRODID:-//Southeast School of Dance - ECPv6.15.20//NONSGML v1.0//EN
CALSCALE:GREGORIAN
METHOD:PUBLISH
X-ORIGINAL-URL:https://se-dance.com
X-WR-CALDESC:Events for Southeast School of Dance
REFRESH-INTERVAL;VALUE=DURATION:PT1H
X-Robots-Tag:noindex
X-PUBLISHED-TTL:PT1H
BEGIN:VTIMEZONE
TZID:America/New_York
BEGIN:DAYLIGHT
TZOFFSETFROM:-0500
TZOFFSETTO:-0400
TZNAME:EDT
DTSTART:20170312T070000
END:DAYLIGHT
BEGIN:STANDARD
TZOFFSETFROM:-0400
TZOFFSETTO:-0500
TZNAME:EST
DTSTART:20171105T060000
END:STANDARD
BEGIN:DAYLIGHT
TZOFFSETFROM:-0500
TZOFFSETTO:-0400
TZNAME:EDT
DTSTART:20180311T070000
END:DAYLIGHT
BEGIN:STANDARD
TZOFFSETFROM:-0400
TZOFFSETTO:-0500
TZNAME:EST
DTSTART:20181104T060000
END:STANDARD
BEGIN:DAYLIGHT
TZOFFSETFROM:-0500
TZOFFSETTO:-0400
TZNAME:EDT
DTSTART:20190310T070000
END:DAYLIGHT
BEGIN:STANDARD
TZOFFSETFROM:-0400
TZOFFSETTO:-0500
TZNAME:EST
DTSTART:20191103T060000
END:STANDARD
END:VTIMEZONE
BEGIN:VEVENT
DTSTART;TZID=America/New_York:20180521T170000
DTEND;TZID=America/New_York:20180522T210000
DTSTAMP:20260422T214128
CREATED:20170808T041705Z
LAST-MODIFIED:20180128T010242Z
UID:1468-1526922000-1527022800@se-dance.com
SUMMARY:Ballet 2\, 3\, & 4 FINAL Evaluations
DESCRIPTION:Please arrive 5-10 minutes early and warm up\, get ready for class in the lobby. We need every second of class to complete evaluations. Remember\, class attire and professionalism in class is also noted. \nDancers will be evaluated on technique\, memory\, performance in class as well as punctuality\, class attire\, and studio etiquette throughout the dance year. Final Evaluations include next years’ class placement. \nSMILE! You worked hard all year\, now it’s time to shine!
URL:https://se-dance.com/event/ballet-2-3-4-mid-term-evaluations-2-2/
CATEGORIES:2025-2026 Season Calendar
END:VEVENT
END:VCALENDAR